BEGIN:VCALENDAR
VERSION:2.0
PRODID:-//3nity.com//3nity CMS//EN
BEGIN:VEVENT
SUMMARY:Corporate Prayer
UID:2026-07-18-1111940@www.restorationwinston.com
SEQUENCE:0
STATUS:CONFIRMED
DTSTART:20260401T053000
DTEND:20260401T053000
DTSTAMP:20161222T120000
DESCRIPTION:Start your day off with prayer every Wednesday morning at 5:30 AM. \nJoin the prayer line by calling 313-209-8800.  Access code: 7192283#
URL:http://www.restorationwinston.com
END:VEVENT
END:VCALENDAR
