BEGIN:VCALENDAR
VERSION:2.0
PRODID:-//3nity.com//3nity CMS//EN
BEGIN:VEVENT
SUMMARY:Wednesday Night Hybrid Bible Study
UID:2026-07-18-1118851@www.restorationwinston.com
SEQUENCE:0
STATUS:CONFIRMED
DTSTART:20260401T183000
DTEND:20260401T193000
DTSTAMP:20161222T120000
DESCRIPTION:Join us for an in-depth study of the word of God. Pastor Rochelle teaches her Discipleship series.  \nMeet us in the building or online 2236 Old Salisbury Road Winston-Salem, NC 27127.
URL:http://www.restorationwinston.com
END:VEVENT
END:VCALENDAR
