BEGIN:VCALENDAR
VERSION:2.0
PRODID:-//3nity.com//3nity CMS//EN
BEGIN:VEVENT
SUMMARY:ALTAR'D
UID:2026-07-18-1200527@www.restorationwinston.com
SEQUENCE:0
STATUS:CONFIRMED
DTSTART:20260410T190000
DTEND:20260410T210000
DTSTAMP:20161222T120000
DESCRIPTION:Start your year at the altar. On Friday, January 9 at 7PM, we're gathering for ALTAR'D a night set apart for worship, prayer, and encounter. This is more than a service; it's a moment to lay down what was, receive what God is doing now, and step boldly into 2026 with clarity, surrender, and expectation.\nWhether you're believing for breakthrough, seeking direction, or simply hungry for God's presence, this night is for you. Come ready. Come open. Come ALTAR'D.
URL:http://www.restorationwinston.com
END:VEVENT
END:VCALENDAR
